BEGIN:VCALENDAR
VERSION:2.0
PRODID:-//Germar&#039;s Best Burger - ECPv6.15.11//NONSGML v1.0//EN
CALSCALE:GREGORIAN
METHOD:PUBLISH
X-WR-CALNAME:Germar&#039;s Best Burger
X-ORIGINAL-URL:https://www.germars.de
X-WR-CALDESC:Veranstaltungen für Germar&#039;s Best Burger
REFRESH-INTERVAL;VALUE=DURATION:PT1H
X-Robots-Tag:noindex
X-PUBLISHED-TTL:PT1H
BEGIN:VTIMEZONE
TZID:Europe/Berlin
BEGIN:DAYLIGHT
TZOFFSETFROM:+0100
TZOFFSETTO:+0200
TZNAME:CEST
DTSTART:20250330T010000
END:DAYLIGHT
BEGIN:STANDARD
TZOFFSETFROM:+0200
TZOFFSETTO:+0100
TZNAME:CET
DTSTART:20251026T010000
END:STANDARD
BEGIN:DAYLIGHT
TZOFFSETFROM:+0100
TZOFFSETTO:+0200
TZNAME:CEST
DTSTART:20260329T010000
END:DAYLIGHT
BEGIN:STANDARD
TZOFFSETFROM:+0200
TZOFFSETTO:+0100
TZNAME:CET
DTSTART:20261025T010000
END:STANDARD
BEGIN:DAYLIGHT
TZOFFSETFROM:+0100
TZOFFSETTO:+0200
TZNAME:CEST
DTSTART:20270328T010000
END:DAYLIGHT
BEGIN:STANDARD
TZOFFSETFROM:+0200
TZOFFSETTO:+0100
TZNAME:CET
DTSTART:20271031T010000
END:STANDARD
END:VTIMEZONE
BEGIN:VEVENT
DTSTART;TZID=Europe/Berlin:20260610T190000
DTEND;TZID=Europe/Berlin:20260610T190000
DTSTAMP:20260426T012728
CREATED:20251102T221024Z
LAST-MODIFIED:20251108T185048Z
UID:3045-1781118000-1781118000@www.germars.de
SUMMARY:Autorenlesung: Vier Gänge\, vier Geschichten am 10.06.2026
DESCRIPTION:﻿Ein Abend\, ein Menü\, vier unvergessliche Erzählungen. Wir laden euch zu einem einzigartigen\, literarisch-kulinarischen Event ein. \nDas Konzept ist so einfach wie genial: Zu den Gängen eines meisterhaften 4-Gänge-Menüs liest jeweils einer unserer vier eingeladenen Autoren eine exklusive Kurzgeschichte. Jeder Gang eine neue Welt\, jede Geschichte ein neuer Geschmack. Freut euch auf eine perfekte Harmonie aus fesselnder Literatur und kreativer Kochkunst. \nDer perfekte Abend für alle\, die besondere Momente lieben und Genuss gerne neu entdecken.
URL:https://www.germars.de/event/autorenlesung-vier-gaenge-vier-geschichten-am-10-06-2026/
LOCATION:Germar’s Best Burger\, Riedstraße 59\, Schwabmünchen\, 86830
ATTACH;FMTTYPE=image/webp:https://www.germars.de/wp-content/uploads/2025/11/germars_autorenlesung_vier_gaenge_vier_geschichten_grafik_webseite.webp
END:VEVENT
BEGIN:VEVENT
DTSTART;TZID=Europe/Berlin:20260618T190000
DTEND;TZID=Europe/Berlin:20260618T190000
DTSTAMP:20260426T012728
CREATED:20251006T080943Z
LAST-MODIFIED:20251203T215240Z
UID:2961-1781809200-1781809200@www.germars.de
SUMMARY:Rum-Stammtisch 18.06.26
DESCRIPTION:Kim Jarmer von „The Rum Tasting Club“ präsentiert euch eine Auswahl der feinsten Rum aus aller Welt. \nWir freuen uns auf eure Anmeldung unter info@whisky-tasting.club
URL:https://www.germars.de/event/rum-stammtisch-18-06-26/
LOCATION:Germar’s Best Burger\, Riedstraße 59\, Schwabmünchen\, 86830
ATTACH;FMTTYPE=image/webp:https://www.germars.de/wp-content/uploads/2025/12/germars_rum-stammtisch_grafik_webseite.webp
END:VEVENT
BEGIN:VEVENT
DTSTART;TZID=Europe/Berlin:20260618T190000
DTEND;TZID=Europe/Berlin:20260618T190000
DTSTAMP:20260426T012728
CREATED:20251105T203157Z
LAST-MODIFIED:20251108T175856Z
UID:3073-1781809200-1781809200@www.germars.de
SUMMARY:Zigarren Blind Tasting mit Michael Pfeffer von Tabak Pfeffer am 18.06.2026
DESCRIPTION:Testen Sie Ihr Zigarren-Wissen bei einem spannenden Blind Tasting! An diesem Abend verkosten Sie drei ausgewählte Zigarren\, ohne zu wissen\, welche Marken und Sorten Sie gerade genießen. Lassen Sie sich ganz auf Ihre Sinne ein und analysieren Sie Aromen\, Geschmacksnuancen und Rauchverhalten. Nach jeder Zigarre folgt die spannende Auflösung durch Michael Pfeffer von Tabak Pfeffer\, der Sie mit seinem Fachwissen durch den Abend führt. Abgerundet wird das Erlebnis mit einem von Michael Pfeffer persönlich ausgewählten Rum.
URL:https://www.germars.de/event/zigarren-blind-tasting-mit-michael-pfeffer-von-tabak-pfeffer-am-18-06-2026/
LOCATION:Germar’s Best Burger\, Riedstraße 59\, Schwabmünchen\, 86830
ATTACH;FMTTYPE=image/webp:https://www.germars.de/wp-content/uploads/2025/11/germars_zigarren_blind_tasting_michael_pfeffer_grafik_webseite.webp
END:VEVENT
BEGIN:VEVENT
DTSTART;TZID=Europe/Berlin:20260619T190000
DTEND;TZID=Europe/Berlin:20260619T190000
DTSTAMP:20260426T012728
CREATED:20251105T201702Z
LAST-MODIFIED:20251108T172438Z
UID:3047-1781895600-1781895600@www.germars.de
SUMMARY:Germar’s BBQ-Abend im Biergarten am 19.06.2026
DESCRIPTION:Erleben Sie einen genussvollen Grillabend mit exquisiten Cuts aus Luft\, Land und Meer. In entspannter ungezwungener Biergarten-Atmosphäre servieren wir Ihnen kulinarische Köstlichkeiten\, begleitet von sorgfältig ausgewählten Drinks. Der Abend wird moderiert vom Chef und den beiden Chefköchen\, die Sie durch den Abend begleiten. \n(Ausweichtermine bei schlechtem Wetter 26. und 27. Juni 2026)
URL:https://www.germars.de/event/germars-bbq-abend-im-biergarten-am-19-06-2026/
LOCATION:Germar’s Best Burger\, Riedstraße 59\, Schwabmünchen\, 86830
ATTACH;FMTTYPE=image/webp:https://www.germars.de/wp-content/uploads/2025/11/germars_event_bbq_abend_grafik_webseite.webp
END:VEVENT
END:VCALENDAR