BEGIN:VCALENDAR
VERSION:2.0
PRODID:-//Germar&#039;s Best Burger - ECPv6.15.11//NONSGML v1.0//EN
CALSCALE:GREGORIAN
METHOD:PUBLISH
X-ORIGINAL-URL:https://www.germars.de
X-WR-CALDESC:Veranstaltungen für Germar&#039;s Best Burger
REFRESH-INTERVAL;VALUE=DURATION:PT1H
X-Robots-Tag:noindex
X-PUBLISHED-TTL:PT1H
BEGIN:VTIMEZONE
TZID:Europe/Berlin
BEGIN:DAYLIGHT
TZOFFSETFROM:+0100
TZOFFSETTO:+0200
TZNAME:CEST
DTSTART:20250330T010000
END:DAYLIGHT
BEGIN:STANDARD
TZOFFSETFROM:+0200
TZOFFSETTO:+0100
TZNAME:CET
DTSTART:20251026T010000
END:STANDARD
BEGIN:DAYLIGHT
TZOFFSETFROM:+0100
TZOFFSETTO:+0200
TZNAME:CEST
DTSTART:20260329T010000
END:DAYLIGHT
BEGIN:STANDARD
TZOFFSETFROM:+0200
TZOFFSETTO:+0100
TZNAME:CET
DTSTART:20261025T010000
END:STANDARD
BEGIN:DAYLIGHT
TZOFFSETFROM:+0100
TZOFFSETTO:+0200
TZNAME:CEST
DTSTART:20270328T010000
END:DAYLIGHT
BEGIN:STANDARD
TZOFFSETFROM:+0200
TZOFFSETTO:+0100
TZNAME:CET
DTSTART:20271031T010000
END:STANDARD
END:VTIMEZONE
BEGIN:VEVENT
DTSTART;TZID=Europe/Berlin:20260507T190000
DTEND;TZID=Europe/Berlin:20260507T190000
DTSTAMP:20260426T000335
CREATED:20251006T080353Z
LAST-MODIFIED:20260204T210407Z
UID:2953-1778180400-1778180400@www.germars.de
SUMMARY:Whisky-Stammtisch 07.05.26
DESCRIPTION:Ungezwungenes geselliges Treffen für alle Freunde des gepflegten Genusses. Es werden interessante Whiskys verköstigt und selbstverständlich können auch selber Whiskys mitgebracht werden.\nNähere Infos unter whisky-tasting.club
URL:https://www.germars.de/event/whisky-stammtisch-07-05-26/
LOCATION:Germar’s Best Burger\, Riedstraße 59\, Schwabmünchen\, 86830
ATTACH;FMTTYPE=image/webp:https://www.germars.de/wp-content/uploads/2025/11/germars_whisky-stammtisch_grafik_webseite.webp
END:VEVENT
BEGIN:VEVENT
DTSTART;TZID=Europe/Berlin:20260522T190000
DTEND;TZID=Europe/Berlin:20260522T190000
DTSTAMP:20260426T000335
CREATED:20251008T113918Z
LAST-MODIFIED:20260213T183310Z
UID:2974-1779476400-1779476400@www.germars.de
SUMMARY:Acoustic Revolution am 22.05.2026
DESCRIPTION:Die Veranstaltung am 20.02.2026 muss krankheitsbedingt auf den 22.05.2026 verschoben werden. Die Tickets behalten ihre Gültigkeit oder können bis zum 23.02.2026 kostenfrei zurückgegeben werden. \n  \nZu den Jungs muss man nichts mehr sagen. Sie sind mittlerweile eine feste Größe in der nationalen Folk- und unplugged Szene. Ein Konzertabend der Superlative!
URL:https://www.germars.de/event/acoustic-revolution-am-22-05-2026/
LOCATION:Germar’s Best Burger\, Riedstraße 59\, Schwabmünchen\, 86830
ATTACH;FMTTYPE=image/webp:https://www.germars.de/wp-content/uploads/2025/12/germars_event_acoustic_revolution_webseite.webp
END:VEVENT
BEGIN:VEVENT
DTSTART;TZID=Europe/Berlin:20260523T190000
DTEND;TZID=Europe/Berlin:20260523T190000
DTSTAMP:20260426T000335
CREATED:20251008T113923Z
LAST-MODIFIED:20260213T183450Z
UID:2976-1779562800-1779562800@www.germars.de
SUMMARY:Acoustic Revolution am 23.05.2026
DESCRIPTION:Die Veranstaltung am 21.02.2026 muss krankheitsbedingt auf den 23.05.2026 verschoben werden. Die Tickets behalten ihre Gültigkeit oder können bis zum 23.02.2026 kostenfrei zurückgegeben werden. \n  \nZu den Jungs muss man nichts mehr sagen. Sie sind mittlerweile eine feste Größe in der nationalen Folk- und unplugged Szene. Ein Konzertabend der Superlative!
URL:https://www.germars.de/event/acoustic-revolution-am-23-05-2026/
LOCATION:Germar’s Best Burger\, Riedstraße 59\, Schwabmünchen\, 86830
ATTACH;FMTTYPE=image/webp:https://www.germars.de/wp-content/uploads/2025/12/germars_event_acoustic_revolution_webseite.webp
END:VEVENT
BEGIN:VEVENT
DTSTART;TZID=Europe/Berlin:20260524T190000
DTEND;TZID=Europe/Berlin:20260524T190000
DTSTAMP:20260426T000335
CREATED:20251008T113938Z
LAST-MODIFIED:20260213T183548Z
UID:2977-1779649200-1779649200@www.germars.de
SUMMARY:Acoustic Revolution am 24.05.2026
DESCRIPTION:Die Veranstaltung am 22.02.2026 muss krankheitsbedingt auf den 24.05.2026 verschoben werden. Die Tickets behalten ihre Gültigkeit oder können bis zum 23.02.2026 kostenfrei zurückgegeben werden. \n  \nZu den Jungs muss man nichts mehr sagen. Sie sind mittlerweile eine feste Größe in der nationalen Folk- und unplugged Szene. Ein Konzertabend der Superlative!
URL:https://www.germars.de/event/acoustic-revolution-am-24-05-2026/
LOCATION:Germar’s Best Burger\, Riedstraße 59\, Schwabmünchen\, 86830
ATTACH;FMTTYPE=image/webp:https://www.germars.de/wp-content/uploads/2025/12/germars_event_acoustic_revolution_webseite.webp
END:VEVENT
END:VCALENDAR