BEGIN:VCALENDAR
VERSION:2.0
PRODID:-//Germar&#039;s Best Burger - ECPv6.15.11//NONSGML v1.0//EN
CALSCALE:GREGORIAN
METHOD:PUBLISH
X-ORIGINAL-URL:https://www.germars.de
X-WR-CALDESC:Veranstaltungen für Germar&#039;s Best Burger
REFRESH-INTERVAL;VALUE=DURATION:PT1H
X-Robots-Tag:noindex
X-PUBLISHED-TTL:PT1H
BEGIN:VTIMEZONE
TZID:Europe/Berlin
BEGIN:DAYLIGHT
TZOFFSETFROM:+0100
TZOFFSETTO:+0200
TZNAME:CEST
DTSTART:20250330T010000
END:DAYLIGHT
BEGIN:STANDARD
TZOFFSETFROM:+0200
TZOFFSETTO:+0100
TZNAME:CET
DTSTART:20251026T010000
END:STANDARD
BEGIN:DAYLIGHT
TZOFFSETFROM:+0100
TZOFFSETTO:+0200
TZNAME:CEST
DTSTART:20260329T010000
END:DAYLIGHT
BEGIN:STANDARD
TZOFFSETFROM:+0200
TZOFFSETTO:+0100
TZNAME:CET
DTSTART:20261025T010000
END:STANDARD
BEGIN:DAYLIGHT
TZOFFSETFROM:+0100
TZOFFSETTO:+0200
TZNAME:CEST
DTSTART:20270328T010000
END:DAYLIGHT
BEGIN:STANDARD
TZOFFSETFROM:+0200
TZOFFSETTO:+0100
TZNAME:CET
DTSTART:20271031T010000
END:STANDARD
END:VTIMEZONE
BEGIN:VTIMEZONE
TZID:Europe/Helsinki
BEGIN:DAYLIGHT
TZOFFSETFROM:+0200
TZOFFSETTO:+0300
TZNAME:EEST
DTSTART:20250330T010000
END:DAYLIGHT
BEGIN:STANDARD
TZOFFSETFROM:+0300
TZOFFSETTO:+0200
TZNAME:EET
DTSTART:20251026T010000
END:STANDARD
BEGIN:DAYLIGHT
TZOFFSETFROM:+0200
TZOFFSETTO:+0300
TZNAME:EEST
DTSTART:20260329T010000
END:DAYLIGHT
BEGIN:STANDARD
TZOFFSETFROM:+0300
TZOFFSETTO:+0200
TZNAME:EET
DTSTART:20261025T010000
END:STANDARD
BEGIN:DAYLIGHT
TZOFFSETFROM:+0200
TZOFFSETTO:+0300
TZNAME:EEST
DTSTART:20270328T010000
END:DAYLIGHT
BEGIN:STANDARD
TZOFFSETFROM:+0300
TZOFFSETTO:+0200
TZNAME:EET
DTSTART:20271031T010000
END:STANDARD
END:VTIMEZONE
BEGIN:VEVENT
DTSTART;TZID=Europe/Berlin:20260108T190000
DTEND;TZID=Europe/Berlin:20260108T190000
DTSTAMP:20260426T055644
CREATED:20251006T075940Z
LAST-MODIFIED:20251127T002221Z
UID:2949-1767898800-1767898800@www.germars.de
SUMMARY:Whisky-Stammtisch 08.01.26
DESCRIPTION:Ungezwungenes geselliges Treffen für alle Freunde des gepflegten Genusses. Es werden interessante Whiskys verköstigt und selbstverständlich können auch selber Whiskys mitgebracht werden.\nNähere Infos unter whisky-tasting.club
URL:https://www.germars.de/event/whisky-stammtisch-08-01-26/
LOCATION:Germar’s Best Burger\, Riedstraße 59\, Schwabmünchen\, 86830
ATTACH;FMTTYPE=image/webp:https://www.germars.de/wp-content/uploads/2025/11/germars_whisky-stammtisch_grafik_webseite.webp
END:VEVENT
BEGIN:VEVENT
DTSTART;TZID=Europe/Helsinki:20260116T190000
DTEND;TZID=Europe/Helsinki:20260116T190000
DTSTAMP:20260426T055644
CREATED:20251008T113753Z
LAST-MODIFIED:20251127T004253Z
UID:2984-1768590000-1768590000@www.germars.de
SUMMARY:Whisky-Tasting 16.01.26
DESCRIPTION:Das sehr beliebte Whisky Tasting im Germar’s steht wieder an. Mit dabei sind 6-8 aussergewöhnliche Drams\, hauptsächlich aus Schottland\, es kann sich aber auch der ein oder andere Bourbon\, Irish Whiskey oder ein edler Tropfen aus der restlichen weiten Welt darunter mischen. Referenten sind der Indepent Ambassador der Scottish Malt Whisky Association Eddie Lederer und Germar Thiele. \nZu Essen wird es wieder ein 3-Gang-Burger Menü geben.
URL:https://www.germars.de/event/whisky-tasting-16-01-26/
LOCATION:Germar’s Best Burger\, Riedstraße 59\, Schwabmünchen\, 86830
ATTACH;FMTTYPE=image/webp:https://www.germars.de/wp-content/uploads/2025/11/germars_event_whisky_tasting_grafik_webseite.webp
END:VEVENT
END:VCALENDAR