BEGIN:VCALENDAR
VERSION:2.0
PRODID:-//Germar&#039;s Best Burger - ECPv6.15.11//NONSGML v1.0//EN
CALSCALE:GREGORIAN
METHOD:PUBLISH
X-WR-CALNAME:Germar&#039;s Best Burger
X-ORIGINAL-URL:https://www.germars.de
X-WR-CALDESC:Veranstaltungen für Germar&#039;s Best Burger
REFRESH-INTERVAL;VALUE=DURATION:PT1H
X-Robots-Tag:noindex
X-PUBLISHED-TTL:PT1H
BEGIN:VTIMEZONE
TZID:Europe/Berlin
BEGIN:DAYLIGHT
TZOFFSETFROM:+0100
TZOFFSETTO:+0200
TZNAME:CEST
DTSTART:20240331T010000
END:DAYLIGHT
BEGIN:STANDARD
TZOFFSETFROM:+0200
TZOFFSETTO:+0100
TZNAME:CET
DTSTART:20241027T010000
END:STANDARD
BEGIN:DAYLIGHT
TZOFFSETFROM:+0100
TZOFFSETTO:+0200
TZNAME:CEST
DTSTART:20250330T010000
END:DAYLIGHT
BEGIN:STANDARD
TZOFFSETFROM:+0200
TZOFFSETTO:+0100
TZNAME:CET
DTSTART:20251026T010000
END:STANDARD
BEGIN:DAYLIGHT
TZOFFSETFROM:+0100
TZOFFSETTO:+0200
TZNAME:CEST
DTSTART:20260329T010000
END:DAYLIGHT
BEGIN:STANDARD
TZOFFSETFROM:+0200
TZOFFSETTO:+0100
TZNAME:CET
DTSTART:20261025T010000
END:STANDARD
END:VTIMEZONE
BEGIN:VTIMEZONE
TZID:Europe/Helsinki
BEGIN:DAYLIGHT
TZOFFSETFROM:+0200
TZOFFSETTO:+0300
TZNAME:EEST
DTSTART:20240331T010000
END:DAYLIGHT
BEGIN:STANDARD
TZOFFSETFROM:+0300
TZOFFSETTO:+0200
TZNAME:EET
DTSTART:20241027T010000
END:STANDARD
BEGIN:DAYLIGHT
TZOFFSETFROM:+0200
TZOFFSETTO:+0300
TZNAME:EEST
DTSTART:20250330T010000
END:DAYLIGHT
BEGIN:STANDARD
TZOFFSETFROM:+0300
TZOFFSETTO:+0200
TZNAME:EET
DTSTART:20251026T010000
END:STANDARD
BEGIN:DAYLIGHT
TZOFFSETFROM:+0200
TZOFFSETTO:+0300
TZNAME:EEST
DTSTART:20260329T010000
END:DAYLIGHT
BEGIN:STANDARD
TZOFFSETFROM:+0300
TZOFFSETTO:+0200
TZNAME:EET
DTSTART:20261025T010000
END:STANDARD
END:VTIMEZONE
BEGIN:VEVENT
DTSTART;TZID=Europe/Berlin:20251204T190000
DTEND;TZID=Europe/Berlin:20251204T190000
DTSTAMP:20260426T055459
CREATED:20250203T173339Z
LAST-MODIFIED:20251127T002124Z
UID:2319-1764874800-1764874800@www.germars.de
SUMMARY:Whisky-Stammtisch 04.12.25
DESCRIPTION:Ungezwungenes geselliges Treffen für alle Freunde des gepflegten Genusses. Es werden interessante Whiskys verköstigt und selbstverständlich können auch selber Whiskys mitgebracht werden.\nNähere Infos unter whisky-tasting.club
URL:https://www.germars.de/event/whisky-stammtisch-13-11-25/
LOCATION:Germar’s Best Burger\, Riedstraße 59\, Schwabmünchen\, 86830
ATTACH;FMTTYPE=image/webp:https://www.germars.de/wp-content/uploads/2025/11/germars_whisky-stammtisch_grafik_webseite.webp
END:VEVENT
BEGIN:VEVENT
DTSTART;TZID=Europe/Helsinki:20251223T190000
DTEND;TZID=Europe/Helsinki:20251223T190000
DTSTAMP:20260426T055459
CREATED:20241126T093938Z
LAST-MODIFIED:20241126T093938Z
UID:2097-1766516400-1766516400@www.germars.de
SUMMARY:Road to Munich - xmas unplugged am 23. Dezember 2025
DESCRIPTION:Road to Munich – xmas unplugged am 23. Dezember 2025. \nDas Konzert mit Road to Munich ist mittlerweile eine feste Größe im Germar’s. Immer am Tag vor Heiligabend schmeißen Road to Munich (Karlheinz Hornung und Tina Wörle) ein unplugged Konzert vom Allerfeinsten.
URL:https://www.germars.de/event/road-to-munich-xmas-unplugged-am-23-dezember-2025-2/
LOCATION:Germar’s Best Burger\, Riedstraße 59\, Schwabmünchen\, 86830
ATTACH;FMTTYPE=image/jpeg:https://www.germars.de/wp-content/uploads/2019/10/Germars-Events-Road-to-Munich-min.jpeg
END:VEVENT
END:VCALENDAR