BEGIN:VCALENDAR
VERSION:2.0
PRODID:-//Germar&#039;s Best Burger - ECPv6.15.11//NONSGML v1.0//EN
CALSCALE:GREGORIAN
METHOD:PUBLISH
X-WR-CALNAME:Germar&#039;s Best Burger
X-ORIGINAL-URL:https://www.germars.de
X-WR-CALDESC:Veranstaltungen für Germar&#039;s Best Burger
REFRESH-INTERVAL;VALUE=DURATION:PT1H
X-Robots-Tag:noindex
X-PUBLISHED-TTL:PT1H
BEGIN:VTIMEZONE
TZID:Europe/Helsinki
BEGIN:DAYLIGHT
TZOFFSETFROM:+0200
TZOFFSETTO:+0300
TZNAME:EEST
DTSTART:20160327T010000
END:DAYLIGHT
BEGIN:STANDARD
TZOFFSETFROM:+0300
TZOFFSETTO:+0200
TZNAME:EET
DTSTART:20161030T010000
END:STANDARD
BEGIN:DAYLIGHT
TZOFFSETFROM:+0200
TZOFFSETTO:+0300
TZNAME:EEST
DTSTART:20170326T010000
END:DAYLIGHT
BEGIN:STANDARD
TZOFFSETFROM:+0300
TZOFFSETTO:+0200
TZNAME:EET
DTSTART:20171029T010000
END:STANDARD
BEGIN:DAYLIGHT
TZOFFSETFROM:+0200
TZOFFSETTO:+0300
TZNAME:EEST
DTSTART:20180325T010000
END:DAYLIGHT
BEGIN:STANDARD
TZOFFSETFROM:+0300
TZOFFSETTO:+0200
TZNAME:EET
DTSTART:20181028T010000
END:STANDARD
END:VTIMEZONE
BEGIN:VEVENT
DTSTART;TZID=Europe/Helsinki:20170219T190000
DTEND;TZID=Europe/Helsinki:20170219T220000
DTSTAMP:20260423T132153
CREATED:20160714T183354Z
LAST-MODIFIED:20170216T142910Z
UID:400-1487530800-1487541600@www.germars.de
SUMMARY:Rüdiger Helbig & Huckleberry 5 - AUSVERKAUFT!
DESCRIPTION:Der Godfather of European Bluegrass kommt ins Germar’s! Rüdiger Helbig ist der wohl beste Banjospieler Europas und kommt nach langen Jahren endlich wieder nach Schwabmünchen. Seine Band hat er von Kentucky Bluefield in Huckleberry 5 umgetauft\, was der musikalischen Qualität aber in keinster Weise etwas anhaben konnte! Für alle Fans von genial gemachter „handmade music“ ein Muss!
URL:https://www.germars.de/event/ruediger-helbig-huckleberry-5/
ATTACH;FMTTYPE=image/jpeg:https://www.germars.de/wp-content/uploads/2016/07/Helbig.jpg
END:VEVENT
END:VCALENDAR