BEGIN:VCALENDAR
VERSION:2.0
PRODID:-//Germar&#039;s Best Burger - ECPv6.15.11//NONSGML v1.0//EN
CALSCALE:GREGORIAN
METHOD:PUBLISH
X-ORIGINAL-URL:https://www.germars.de
X-WR-CALDESC:Veranstaltungen für Germar&#039;s Best Burger
REFRESH-INTERVAL;VALUE=DURATION:PT1H
X-Robots-Tag:noindex
X-PUBLISHED-TTL:PT1H
BEGIN:VTIMEZONE
TZID:Europe/Helsinki
BEGIN:DAYLIGHT
TZOFFSETFROM:+0200
TZOFFSETTO:+0300
TZNAME:EEST
DTSTART:20160327T010000
END:DAYLIGHT
BEGIN:STANDARD
TZOFFSETFROM:+0300
TZOFFSETTO:+0200
TZNAME:EET
DTSTART:20161030T010000
END:STANDARD
BEGIN:DAYLIGHT
TZOFFSETFROM:+0200
TZOFFSETTO:+0300
TZNAME:EEST
DTSTART:20170326T010000
END:DAYLIGHT
BEGIN:STANDARD
TZOFFSETFROM:+0300
TZOFFSETTO:+0200
TZNAME:EET
DTSTART:20171029T010000
END:STANDARD
BEGIN:DAYLIGHT
TZOFFSETFROM:+0200
TZOFFSETTO:+0300
TZNAME:EEST
DTSTART:20180325T010000
END:DAYLIGHT
BEGIN:STANDARD
TZOFFSETFROM:+0300
TZOFFSETTO:+0200
TZNAME:EET
DTSTART:20181028T010000
END:STANDARD
END:VTIMEZONE
BEGIN:VEVENT
DTSTART;TZID=Europe/Helsinki:20170115T190000
DTEND;TZID=Europe/Helsinki:20170115T220000
DTSTAMP:20260423T145023
CREATED:20150530T115012Z
LAST-MODIFIED:20160714T182325Z
UID:239-1484506800-1484517600@www.germars.de
SUMMARY:LeClou
DESCRIPTION:Eines der schönsten Konzerte im Germar’s! Und sie kommen wieder! Die Franzosen von LeClou haben ja lange Jahre schon in der Roßtränke wilde Konzerte abgefeiert und nun holen wir sie wieder nach Schwabmünchen! LeClou’s CajunSwamp Groove ist druckvoler „Südstaaten-Sumpf-Rock’n’Roll\, ein Gebräu aus traditioneller Cajun Music\, Zydeco\, kreolischen Rhythmen und Blues – gewürzt mit einer deftigen Portion französischem Esprit.
URL:https://www.germars.de/event/leclou/
ATTACH;FMTTYPE=image/jpeg:https://www.germars.de/wp-content/uploads/2015/05/index.php_.jpeg
END:VEVENT
END:VCALENDAR