BEGIN:VCALENDAR
VERSION:2.0
PRODID:-//Germar&#039;s Best Burger - ECPv6.15.11//NONSGML v1.0//EN
CALSCALE:GREGORIAN
METHOD:PUBLISH
X-WR-CALNAME:Germar&#039;s Best Burger
X-ORIGINAL-URL:https://www.germars.de
X-WR-CALDESC:Veranstaltungen für Germar&#039;s Best Burger
REFRESH-INTERVAL;VALUE=DURATION:PT1H
X-Robots-Tag:noindex
X-PUBLISHED-TTL:PT1H
BEGIN:VTIMEZONE
TZID:Europe/Helsinki
BEGIN:DAYLIGHT
TZOFFSETFROM:+0200
TZOFFSETTO:+0300
TZNAME:EEST
DTSTART:20150329T010000
END:DAYLIGHT
BEGIN:STANDARD
TZOFFSETFROM:+0300
TZOFFSETTO:+0200
TZNAME:EET
DTSTART:20151025T010000
END:STANDARD
BEGIN:DAYLIGHT
TZOFFSETFROM:+0200
TZOFFSETTO:+0300
TZNAME:EEST
DTSTART:20160327T010000
END:DAYLIGHT
BEGIN:STANDARD
TZOFFSETFROM:+0300
TZOFFSETTO:+0200
TZNAME:EET
DTSTART:20161030T010000
END:STANDARD
BEGIN:DAYLIGHT
TZOFFSETFROM:+0200
TZOFFSETTO:+0300
TZNAME:EEST
DTSTART:20170326T010000
END:DAYLIGHT
BEGIN:STANDARD
TZOFFSETFROM:+0300
TZOFFSETTO:+0200
TZNAME:EET
DTSTART:20171029T010000
END:STANDARD
END:VTIMEZONE
BEGIN:VEVENT
DTSTART;TZID=Europe/Helsinki:20161016T190000
DTEND;TZID=Europe/Helsinki:20161016T220000
DTSTAMP:20260423T203007
CREATED:20160714T180511Z
LAST-MODIFIED:20160714T192345Z
UID:389-1476644400-1476655200@www.germars.de
SUMMARY:Peter Maffay Tribute Show "Ewig"
DESCRIPTION:
URL:https://www.germars.de/event/peter-maffay-tribute-show-ewig/
ATTACH;FMTTYPE=image/jpeg:https://www.germars.de/wp-content/uploads/2016/07/Maffay.jpg
END:VEVENT
BEGIN:VEVENT
DTSTART;TZID=Europe/Helsinki:20161023T190000
DTEND;TZID=Europe/Helsinki:20161023T220000
DTSTAMP:20260423T203007
CREATED:20160714T180806Z
LAST-MODIFIED:20160919T161902Z
UID:393-1477249200-1477260000@www.germars.de
SUMMARY:Voice 4 U
DESCRIPTION:Mit der brandneuen CD „Glanzlichter“ im Gepäck bietet VOICE 4 U im Quartett Ihren Zuhörern eine gelungene Mischung aus grossen Musicalerfolgen und Welthits aus Film\, Pop und auch Rock . Gefühlvolle Songs wie »You raise me up« und »With or without you« werden von geheimnisvollen Klassikern wie „Unstillbare Gier“ aus „Tanz der Vampire“ und „Ich gehör nur mir“ aus dem Musical „Elisabeth“abgelöst. „Time of my life“ geht in die Beine und „Shook me all night long” lädt zum Abrocken ein. Gänsehautmomente garantiert. \nMusik zum träumen\, mitfühlen und mitreissen lassen. Songs\, die ein „Das hab ich ja schon lange nicht gehört“ oder ein „Das hab ich so noch nie gehört“ beim Zuhörer hervorrufen und das Alles in entspannter\, romantischer Atmosphäre – das ist ein Abend mit der Band VOICE 4 U. Seit über 10 Jahren tourt die Band höchst erfolgreich mit ihrer liebevoll arrangierten\, handgemachten Musik. \nDer Name der Band ist Programm. Die wundervollen Stimmen von Cordula Wegerer und Rico Klemm verzaubern und werden dabei von den beiden Musikern Reinhold Ohmayer (Piano) und Adrian Winkler (Gitarre) in perfekter Harmonie getragen. Jedes Konzert wird zu einem unvergesslichen Erlebnis für Jung und Alt. Mit viel Charme\, Witz und Niveau führen Cordula Wegerer und Rico Klemm durchs Programm und geben jedem Konzert eine persönliche Note. \nOb sie einen romatischen Abend mit Ihrem Partner erleben wollen oder mit Ihren Freundinnen mal wieder Zeit verbringen möchten – VOICE 4 U entführt Sie auf eine musikalische Reise in die Welt der großen Gefühle .
URL:https://www.germars.de/event/voice-4-u/
ATTACH;FMTTYPE=image/jpeg:https://www.germars.de/wp-content/uploads/2016/07/V4U_Singer_Press.jpg
END:VEVENT
END:VCALENDAR