BEGIN:VCALENDAR
VERSION:2.0
PRODID:-//Germar&#039;s Best Burger - ECPv6.15.11//NONSGML v1.0//EN
CALSCALE:GREGORIAN
METHOD:PUBLISH
X-ORIGINAL-URL:https://www.germars.de
X-WR-CALDESC:Veranstaltungen für Germar&#039;s Best Burger
REFRESH-INTERVAL;VALUE=DURATION:PT1H
X-Robots-Tag:noindex
X-PUBLISHED-TTL:PT1H
BEGIN:VTIMEZONE
TZID:Europe/Helsinki
BEGIN:DAYLIGHT
TZOFFSETFROM:+0200
TZOFFSETTO:+0300
TZNAME:EEST
DTSTART:20150329T010000
END:DAYLIGHT
BEGIN:STANDARD
TZOFFSETFROM:+0300
TZOFFSETTO:+0200
TZNAME:EET
DTSTART:20151025T010000
END:STANDARD
BEGIN:DAYLIGHT
TZOFFSETFROM:+0200
TZOFFSETTO:+0300
TZNAME:EEST
DTSTART:20160327T010000
END:DAYLIGHT
BEGIN:STANDARD
TZOFFSETFROM:+0300
TZOFFSETTO:+0200
TZNAME:EET
DTSTART:20161030T010000
END:STANDARD
BEGIN:DAYLIGHT
TZOFFSETFROM:+0200
TZOFFSETTO:+0300
TZNAME:EEST
DTSTART:20170326T010000
END:DAYLIGHT
BEGIN:STANDARD
TZOFFSETFROM:+0300
TZOFFSETTO:+0200
TZNAME:EET
DTSTART:20171029T010000
END:STANDARD
END:VTIMEZONE
BEGIN:VEVENT
DTSTART;TZID=Europe/Helsinki:20160221T190000
DTEND;TZID=Europe/Helsinki:20160221T230000
DTSTAMP:20260424T083616
CREATED:20151008T103412Z
LAST-MODIFIED:20151029T145434Z
UID:306-1456081200-1456095600@www.germars.de
SUMMARY:Bayerischer Wirtshausabend mit Hannes Hopp und seinem Lederhosen-Blues
DESCRIPTION:Bayerischer Blues und bayerische Schmankerl\, die es sonst bei uns nicht gibt. Das ist der Wirtshausabend im Germar’s mit Hannes Hopp und seinem Lederhosen-Blues. Das sind erdige Country Blues Stücke mit bayerischen Texten und Folk Klassiker aus dem Alpenraum.
URL:https://www.germars.de/event/bayerischer-wirtshausabend-mit-hannes-hopp-und-seinem-lederhosen-blues/
ATTACH;FMTTYPE=image/jpeg:https://www.germars.de/wp-content/uploads/2015/10/HannesGuitar-Reworked1.jpg
END:VEVENT
BEGIN:VEVENT
DTSTART;TZID=Europe/Helsinki:20160228T190000
DTEND;TZID=Europe/Helsinki:20160228T190000
DTSTAMP:20260424T083616
CREATED:20151008T135153Z
LAST-MODIFIED:20160219T170701Z
UID:308-1456686000-1456686000@www.germars.de
SUMMARY:Weiherer - a Liad\, a Freiheit und a Watschn - Ausverkauft!
DESCRIPTION:Er singt und musiziert\, witzelt und sinniert\, schimpft und protestiert\, während andere schon längst in Bierseligkeit vor sich hindümpeln. Einer der größten Abräumer der Schwabmünchner Comedy-Nächte! \nLeider bereits ausverkauft!
URL:https://www.germars.de/event/weiherer-a-liad-a-freiheit-und-a-watschn/
ATTACH;FMTTYPE=image/jpeg:https://www.germars.de/wp-content/uploads/2015/10/Weiherer.jpeg
END:VEVENT
END:VCALENDAR