BEGIN:VCALENDAR
VERSION:2.0
PRODID:-//Germar&#039;s Best Burger - ECPv6.15.11//NONSGML v1.0//EN
CALSCALE:GREGORIAN
METHOD:PUBLISH
X-WR-CALNAME:Germar&#039;s Best Burger
X-ORIGINAL-URL:https://www.germars.de
X-WR-CALDESC:Veranstaltungen für Germar&#039;s Best Burger
REFRESH-INTERVAL;VALUE=DURATION:PT1H
X-Robots-Tag:noindex
X-PUBLISHED-TTL:PT1H
BEGIN:VTIMEZONE
TZID:Europe/Berlin
BEGIN:DAYLIGHT
TZOFFSETFROM:+0100
TZOFFSETTO:+0200
TZNAME:CEST
DTSTART:20140330T010000
END:DAYLIGHT
BEGIN:STANDARD
TZOFFSETFROM:+0200
TZOFFSETTO:+0100
TZNAME:CET
DTSTART:20141026T010000
END:STANDARD
BEGIN:DAYLIGHT
TZOFFSETFROM:+0100
TZOFFSETTO:+0200
TZNAME:CEST
DTSTART:20150329T010000
END:DAYLIGHT
BEGIN:STANDARD
TZOFFSETFROM:+0200
TZOFFSETTO:+0100
TZNAME:CET
DTSTART:20151025T010000
END:STANDARD
BEGIN:DAYLIGHT
TZOFFSETFROM:+0100
TZOFFSETTO:+0200
TZNAME:CEST
DTSTART:20160327T010000
END:DAYLIGHT
BEGIN:STANDARD
TZOFFSETFROM:+0200
TZOFFSETTO:+0100
TZNAME:CET
DTSTART:20161030T010000
END:STANDARD
END:VTIMEZONE
BEGIN:VEVENT
DTSTART;TZID=Europe/Berlin:20150208T170000
DTEND;TZID=Europe/Berlin:20150208T170000
DTSTAMP:20260425T032911
CREATED:20141128T150914Z
LAST-MODIFIED:20150204T135016Z
UID:130-1423414800-1423414800@www.germars.de
SUMMARY:Mittelalterlicher Abend - wird verschoben!!
DESCRIPTION:Mittelalterlicher Abend mit dem Duo „Lauten und Feen“. Inklusive 3 Gänge Menü. \n  \n– Veranstaltung wird auf unbestimmte Zeit verschoben –
URL:https://www.germars.de/event/mittelalterlicher-abend/
LOCATION:Germar’s Best Burger\, Riedstraße 59\, Schwabmünchen\, 86830
ATTACH;FMTTYPE=image/jpeg:https://www.germars.de/wp-content/uploads/2014/11/lauten-feen-e1417183736658.jpg
END:VEVENT
BEGIN:VEVENT
DTSTART;TZID=Europe/Berlin:20150210T190000
DTEND;TZID=Europe/Berlin:20150210T230000
DTSTAMP:20260425T032911
CREATED:20141211T083207Z
LAST-MODIFIED:20150114T163015Z
UID:177-1423594800-1423609200@www.germars.de
SUMMARY:Open Stage
DESCRIPTION:Für alle Musiker und Künstler\, die mal wieder Lust auf einen Auftritt haben oder einfach nur mal wieder live mit anderen oder alleine spielen wollen… \n…. und natürlich auch für alle Musikliebhaber die sich gerne von einer spontanen Performance überraschen lassen wollen…. \n  \nKontakt und Anmeldung für Künstler: Karlheinz Hornung  0172 / 8625470
URL:https://www.germars.de/event/open-stage/
LOCATION:Germar’s Best Burger\, Riedstraße 59\, Schwabmünchen\, 86830
ATTACH;FMTTYPE=image/jpeg:https://www.germars.de/wp-content/uploads/2014/12/open-stage.jpg
END:VEVENT
BEGIN:VEVENT
DTSTART;TZID=Europe/Berlin:20150214T170000
DTEND;TZID=Europe/Berlin:20150215T020000
DTSTAMP:20260425T032911
CREATED:20150121T150908Z
LAST-MODIFIED:20150121T151044Z
UID:196-1423933200-1423965600@www.germars.de
SUMMARY:Faschingssamstag
DESCRIPTION:Verkleidet oder nicht! Ab 22:00 Uhr legt DJ Hombre auf!
URL:https://www.germars.de/event/faschingssamstag/
LOCATION:Germar’s Best Burger\, Riedstraße 59\, Schwabmünchen\, 86830
ATTACH;FMTTYPE=image/jpeg:https://www.germars.de/wp-content/uploads/2015/01/20100211photo20b.jpg
END:VEVENT
END:VCALENDAR