BEGIN:VCALENDAR
VERSION:2.0
PRODID:-//Germar&#039;s Best Burger - ECPv6.15.11//NONSGML v1.0//EN
CALSCALE:GREGORIAN
METHOD:PUBLISH
X-WR-CALNAME:Germar&#039;s Best Burger
X-ORIGINAL-URL:https://www.germars.de
X-WR-CALDESC:Veranstaltungen für Germar&#039;s Best Burger
REFRESH-INTERVAL;VALUE=DURATION:PT1H
X-Robots-Tag:noindex
X-PUBLISHED-TTL:PT1H
BEGIN:VTIMEZONE
TZID:Europe/Berlin
BEGIN:DAYLIGHT
TZOFFSETFROM:+0100
TZOFFSETTO:+0200
TZNAME:CEST
DTSTART:20250330T010000
END:DAYLIGHT
BEGIN:STANDARD
TZOFFSETFROM:+0200
TZOFFSETTO:+0100
TZNAME:CET
DTSTART:20251026T010000
END:STANDARD
BEGIN:DAYLIGHT
TZOFFSETFROM:+0100
TZOFFSETTO:+0200
TZNAME:CEST
DTSTART:20260329T010000
END:DAYLIGHT
BEGIN:STANDARD
TZOFFSETFROM:+0200
TZOFFSETTO:+0100
TZNAME:CET
DTSTART:20261025T010000
END:STANDARD
BEGIN:DAYLIGHT
TZOFFSETFROM:+0100
TZOFFSETTO:+0200
TZNAME:CEST
DTSTART:20270328T010000
END:DAYLIGHT
BEGIN:STANDARD
TZOFFSETFROM:+0200
TZOFFSETTO:+0100
TZNAME:CET
DTSTART:20271031T010000
END:STANDARD
END:VTIMEZONE
BEGIN:VEVENT
DTSTART;TZID=Europe/Berlin:20260507T190000
DTEND;TZID=Europe/Berlin:20260507T190000
DTSTAMP:20260425T223505
CREATED:20251006T080353Z
LAST-MODIFIED:20260204T210407Z
UID:2953-1778180400-1778180400@www.germars.de
SUMMARY:Whisky-Stammtisch 07.05.26
DESCRIPTION:Ungezwungenes geselliges Treffen für alle Freunde des gepflegten Genusses. Es werden interessante Whiskys verköstigt und selbstverständlich können auch selber Whiskys mitgebracht werden.\nNähere Infos unter whisky-tasting.club
URL:https://www.germars.de/event/whisky-stammtisch-07-05-26/
LOCATION:Germar’s Best Burger\, Riedstraße 59\, Schwabmünchen\, 86830
ATTACH;FMTTYPE=image/webp:https://www.germars.de/wp-content/uploads/2025/11/germars_whisky-stammtisch_grafik_webseite.webp
END:VEVENT
END:VCALENDAR