BEGIN:VCALENDAR
VERSION:2.0
PRODID:-//Germar&#039;s Best Burger - ECPv6.15.11//NONSGML v1.0//EN
CALSCALE:GREGORIAN
METHOD:PUBLISH
X-ORIGINAL-URL:https://www.germars.de
X-WR-CALDESC:Veranstaltungen für Germar&#039;s Best Burger
REFRESH-INTERVAL;VALUE=DURATION:PT1H
X-Robots-Tag:noindex
X-PUBLISHED-TTL:PT1H
BEGIN:VTIMEZONE
TZID:Europe/Helsinki
BEGIN:DAYLIGHT
TZOFFSETFROM:+0200
TZOFFSETTO:+0300
TZNAME:EEST
DTSTART:20250330T010000
END:DAYLIGHT
BEGIN:STANDARD
TZOFFSETFROM:+0300
TZOFFSETTO:+0200
TZNAME:EET
DTSTART:20251026T010000
END:STANDARD
BEGIN:DAYLIGHT
TZOFFSETFROM:+0200
TZOFFSETTO:+0300
TZNAME:EEST
DTSTART:20260329T010000
END:DAYLIGHT
BEGIN:STANDARD
TZOFFSETFROM:+0300
TZOFFSETTO:+0200
TZNAME:EET
DTSTART:20261025T010000
END:STANDARD
BEGIN:DAYLIGHT
TZOFFSETFROM:+0200
TZOFFSETTO:+0300
TZNAME:EEST
DTSTART:20270328T010000
END:DAYLIGHT
BEGIN:STANDARD
TZOFFSETFROM:+0300
TZOFFSETTO:+0200
TZNAME:EET
DTSTART:20271031T010000
END:STANDARD
END:VTIMEZONE
BEGIN:VEVENT
DTSTART;TZID=Europe/Helsinki:20260320T190000
DTEND;TZID=Europe/Helsinki:20260320T190000
DTSTAMP:20260426T024318
CREATED:20251008T113047Z
LAST-MODIFIED:20251203T210805Z
UID:2986-1774033200-1774033200@www.germars.de
SUMMARY:The World of R(h)um – Rum Tasting am 20.03.26
DESCRIPTION:Rum wird immer beliebter. Das geht auch bei uns nicht spurlos vorbei. Daher werden wir wieder unsere Gäste in die Welt des R(h)um entführen. Es werden 6-8 wunderbare R(h)ums aus der ganzen Welt verkostet. Mit einer ganzen Fülle an Erklärungen und Bildern. Eddie Lederer wird die Welt des R(h)ums zum Erleuchten bringen und alle kurzweilig unterhalten. \nDazu wird ein 3-Gänge-Menü gereicht.
URL:https://www.germars.de/event/the-world-of-rhum-rum-tasting-am-20-03-26/
LOCATION:Germar’s Best Burger\, Riedstraße 59\, Schwabmünchen\, 86830
ATTACH;FMTTYPE=image/webp:https://www.germars.de/wp-content/uploads/2025/12/germars_event_the_world_of_rhum_grafik_webseite.webp
END:VEVENT
END:VCALENDAR