BEGIN:VCALENDAR
VERSION:2.0
PRODID:-//Germar&#039;s Best Burger - ECPv6.15.11//NONSGML v1.0//EN
CALSCALE:GREGORIAN
METHOD:PUBLISH
X-WR-CALNAME:Germar&#039;s Best Burger
X-ORIGINAL-URL:https://www.germars.de
X-WR-CALDESC:Veranstaltungen für Germar&#039;s Best Burger
REFRESH-INTERVAL;VALUE=DURATION:PT1H
X-Robots-Tag:noindex
X-PUBLISHED-TTL:PT1H
BEGIN:VTIMEZONE
TZID:Europe/Helsinki
BEGIN:DAYLIGHT
TZOFFSETFROM:+0200
TZOFFSETTO:+0300
TZNAME:EEST
DTSTART:20250330T010000
END:DAYLIGHT
BEGIN:STANDARD
TZOFFSETFROM:+0300
TZOFFSETTO:+0200
TZNAME:EET
DTSTART:20251026T010000
END:STANDARD
BEGIN:DAYLIGHT
TZOFFSETFROM:+0200
TZOFFSETTO:+0300
TZNAME:EEST
DTSTART:20260329T010000
END:DAYLIGHT
BEGIN:STANDARD
TZOFFSETFROM:+0300
TZOFFSETTO:+0200
TZNAME:EET
DTSTART:20261025T010000
END:STANDARD
BEGIN:DAYLIGHT
TZOFFSETFROM:+0200
TZOFFSETTO:+0300
TZNAME:EEST
DTSTART:20270328T010000
END:DAYLIGHT
BEGIN:STANDARD
TZOFFSETFROM:+0300
TZOFFSETTO:+0200
TZNAME:EET
DTSTART:20271031T010000
END:STANDARD
END:VTIMEZONE
BEGIN:VEVENT
DTSTART;TZID=Europe/Helsinki:20260313T190000
DTEND;TZID=Europe/Helsinki:20260313T190000
DTSTAMP:20260426T024028
CREATED:20251008T113632Z
LAST-MODIFIED:20251203T212456Z
UID:2991-1773428400-1773428400@www.germars.de
SUMMARY:Krimidinner - Es war einmal... ein Mord im Märchenpark am 13.03.26 mit dem Theater.Bayern
DESCRIPTION:Sehr geehrte Rätselfreunde und Liebhaber des bayerischen Humors \nAm 6. Juni 2036 wird der tyrannische Besitzer des Märchenparks in Köln\, Niederbayern\, heimtückisch ermordet. Verdächtigt sind seine unzufriedenen Märchendarsteller. Wird der mysteriöse Fall gelöst\, bevor die neue Hauptstadt der Bayerischen Föderation im Chaos versinkt? \nDie Soko ‚Es war einmal (Gäste)‘ nimmt sich des Falls an – und das an verschiedenen Terminen! Begleitet wird der humorvolle Kriminalfall von einem köstlichen 3-Gänge-Menü. \n 
URL:https://www.germars.de/event/krimidinner-es-war-einmal-ein-mord-im-maerchenpark-am-13-03-26-mit-dem-theater-bayern/
LOCATION:Germar’s Best Burger\, Riedstraße 59\, Schwabmünchen\, 86830
ATTACH;FMTTYPE=image/webp:https://www.germars.de/wp-content/uploads/2025/12/germars_event_krimidinner_mord_maerchenpark_grafik_webseite.webp
END:VEVENT
END:VCALENDAR